BEGIN:VCALENDAR
VERSION:2.0
PRODID:-//National Youth Council of Malawi - ECPv5.8.1//NONSGML v1.0//EN
CALSCALE:GREGORIAN
METHOD:PUBLISH
X-WR-CALNAME:National Youth Council of Malawi
X-ORIGINAL-URL:https://nycom.mw
X-WR-CALDESC:Events for National Youth Council of Malawi
BEGIN:VTIMEZONE
TZID:UTC
BEGIN:STANDARD
TZOFFSETFROM:+0000
TZOFFSETTO:+0000
TZNAME:UTC
DTSTART:20200101T000000
END:STANDARD
END:VTIMEZONE
BEGIN:VEVENT
DTSTART;TZID=UTC:20201030T080000
DTEND;TZID=UTC:20201103T080000
DTSTAMP:20210817T235226
CREATED:20170518T020617Z
LAST-MODIFIED:20170518T020617Z
UID:1754-1604044800-1604390400@nycom.mw
SUMMARY:Small Business Saturday Workshop
DESCRIPTION:Sed ut perspiciatis unde omnis iste natus error sit voluptatem accusantium doloremque laudantium\, totam rem aperiam\, eaque ipsa quae ab illo. \nSed ut perspiciatis unde omnis iste natus error sit voluptatem accusantium doloremque laudantium\, totam rem aperiam\, eaque ipsa quae ab illo inventore veritatis et quasi architecto beatae vitae dicta sunt explicabo. Nemo enim ipsam voluptatem quia voluptas sit aspernatur aut odit aut fugit\, sed quia consequuntur magni dolores eos qui ratione voluptatem sequi nesciunt.
URL:https://nycom.mw/?tribe_events=small-business-saturday-workshop
LOCATION:New York\, 8 King Street\, Queens\, NY\, United States
CATEGORIES:Seminars
ATTACH;FMTTYPE=image/jpeg:https://nycom.mw/wp-content/uploads/2017/05/event-4.jpg
ORGANIZER;CN="Gary%20Jones":MAILTO:info@demo.com
END:VEVENT
END:VCALENDAR